﻿BEGIN:VCALENDAR
VERSION:2.0
PRODID:-//hacksw/handcal//NONSGML v1.0//EN
CALSCALE:GREGORIAN
BEGIN:VEVENT
LOCATION:Cannes
DESCRIPTION:
DTSTART:20230314T170700Z
DTEND:20230317T170700Z
SUMMARY:MIPIM
URL;VALUE=URI:https://neinorhomes.com/accionistas-e-inversores/accionistas/agenda-del-inversor
DTSTAMP:20260422T190806Z
UID:69e900769d9ef
END:VEVENT
END:VCALENDAR