﻿BEGIN:VCALENDAR
VERSION:2.0
PRODID:-//hacksw/handcal//NONSGML v1.0//EN
CALSCALE:GREGORIAN
BEGIN:VEVENT
LOCATION:Miami
DESCRIPTION:
DTSTART:20230305T000000Z
DTEND:20230308T230000Z
SUMMARY:Citi Miami Global Property Conference 
URL;VALUE=URI:https://neinorhomes.com/accionistas-e-inversores/accionistas/agenda-del-inversor
DTSTAMP:20260422T203100Z
UID:69e913e40c968
END:VEVENT
END:VCALENDAR