﻿BEGIN:VCALENDAR
VERSION:2.0
PRODID:-//hacksw/handcal//NONSGML v1.0//EN
CALSCALE:GREGORIAN
BEGIN:VEVENT
LOCATION:Frankfurt
DESCRIPTION:
DTSTART:20230208T090000Z
DTEND:20230209T200000Z
SUMMARY:BME Frankfurt Conference
URL;VALUE=URI:https://neinorhomes.com/accionistas-e-inversores/accionistas/agenda-del-inversor
DTSTAMP:20260422T190218Z
UID:69e8ff1ae74fe
END:VEVENT
END:VCALENDAR