﻿BEGIN:VCALENDAR
VERSION:2.0
PRODID:-//hacksw/handcal//NONSGML v1.0//EN
CALSCALE:GREGORIAN
BEGIN:VEVENT
LOCATION:Londres
DESCRIPTION:
DTSTART:20230111T000000Z
DTEND:20230111T230000Z
SUMMARY:Barclays Property Conference 
URL;VALUE=URI:https://neinorhomes.com/accionistas-e-inversores/accionistas/agenda-del-inversor
DTSTAMP:20260422T190551Z
UID:69e8ffefe909d
END:VEVENT
END:VCALENDAR