﻿BEGIN:VCALENDAR
VERSION:2.0
PRODID:-//hacksw/handcal//NONSGML v1.0//EN
CALSCALE:GREGORIAN
BEGIN:VEVENT
LOCATION:Virtual
DESCRIPTION:
DTSTART:20221006T120000Z
DTEND:20221006T120000Z
SUMMARY:BBVA Iberian Digital Forum
URL;VALUE=URI:https://neinorhomes.com/accionistas-e-inversores/accionistas/agenda-del-inversor
DTSTAMP:20260422T202837Z
UID:69e91355a1c4e
END:VEVENT
END:VCALENDAR