﻿BEGIN:VCALENDAR
VERSION:2.0
PRODID:-//hacksw/handcal//NONSGML v1.0//EN
CALSCALE:GREGORIAN
BEGIN:VEVENT
LOCATION:Paris
DESCRIPTION:
DTSTART:20221117T120000Z
DTEND:20221117T120000Z
SUMMARY:Conferencia Societe Generale ESG
URL;VALUE=URI:https://neinorhomes.com/accionistas-e-inversores/accionistas/agenda-del-inversor
DTSTAMP:20260422T203208Z
UID:69e9142836447
END:VEVENT
END:VCALENDAR