﻿BEGIN:VCALENDAR
VERSION:2.0
PRODID:-//hacksw/handcal//NONSGML v1.0//EN
CALSCALE:GREGORIAN
BEGIN:VEVENT
LOCATION:Paris
DESCRIPTION:
DTSTART:20221020T120000Z
DTEND:20221020T120000Z
SUMMARY:Conferencia Societe Generale Real Estate
URL;VALUE=URI:https://neinorhomes.com/accionistas-e-inversores/accionistas/agenda-del-inversor
DTSTAMP:20260422T190414Z
UID:69e8ff8ec8835
END:VEVENT
END:VCALENDAR