﻿BEGIN:VCALENDAR
VERSION:2.0
PRODID:-//hacksw/handcal//NONSGML v1.0//EN
CALSCALE:GREGORIAN
BEGIN:VEVENT
LOCATION:Virtual
DESCRIPTION:
DTSTART:20220601T120000Z
DTEND:20220601T120000Z
SUMMARY:Conferencia ODDO BHF 11 Nextcap Forum
URL;VALUE=URI:https://neinorhomes.com/accionistas-e-inversores/accionistas/agenda-del-inversor
DTSTAMP:20260422T203006Z
UID:69e913ae984cb
END:VEVENT
END:VCALENDAR