﻿BEGIN:VCALENDAR
VERSION:2.0
PRODID:-//hacksw/handcal//NONSGML v1.0//EN
CALSCALE:GREGORIAN
BEGIN:VEVENT
LOCATION:
DESCRIPTION:
DTSTART:20220608T120000Z
DTEND:20220608T120000Z
SUMMARY:Conferencia Deutsche Bank 26th Annual European Leverage Finance Conference
URL;VALUE=URI:https://neinorhomes.com/accionistas-e-inversores/accionistas/agenda-del-inversor
DTSTAMP:20260422T190551Z
UID:69e8ffef6afc2
END:VEVENT
END:VCALENDAR