﻿BEGIN:VCALENDAR
VERSION:2.0
PRODID:-//hacksw/handcal//NONSGML v1.0//EN
CALSCALE:GREGORIAN
BEGIN:VEVENT
LOCATION:Virtual
DESCRIPTION:
DTSTART:20220907T120000Z
DTEND:20220907T120000Z
SUMMARY:Conferencia Caixabank XIX Iberian Conference
URL;VALUE=URI:https://neinorhomes.com/accionistas-e-inversores/accionistas/agenda-del-inversor
DTSTAMP:20260422T202938Z
UID:69e91392b236e
END:VEVENT
END:VCALENDAR