﻿BEGIN:VCALENDAR
VERSION:2.0
PRODID:-//hacksw/handcal//NONSGML v1.0//EN
CALSCALE:GREGORIAN
BEGIN:VEVENT
LOCATION:Virtual
DESCRIPTION:
DTSTART:20220512T120000Z
DTEND:20220512T120000Z
SUMMARY:Conferencia BofA Made in Iberia 
URL;VALUE=URI:https://neinorhomes.com/accionistas-e-inversores/accionistas/agenda-del-inversor
DTSTAMP:20260422T202936Z
UID:69e9139028c1e
END:VEVENT
END:VCALENDAR