﻿BEGIN:VCALENDAR
VERSION:2.0
PRODID:-//hacksw/handcal//NONSGML v1.0//EN
CALSCALE:GREGORIAN
BEGIN:VEVENT
LOCATION:Paris
DESCRIPTION:
DTSTART:20221116T120000Z
DTEND:20221116T120000Z
SUMMARY:Conferencia BNP Paribas 5th MidCap CEO Conference
URL;VALUE=URI:https://neinorhomes.com/accionistas-e-inversores/accionistas/agenda-del-inversor
DTSTAMP:20260422T190245Z
UID:69e8ff3506f72
END:VEVENT
END:VCALENDAR