﻿BEGIN:VCALENDAR
VERSION:2.0
PRODID:-//hacksw/handcal//NONSGML v1.0//EN
CALSCALE:GREGORIAN
BEGIN:VEVENT
LOCATION:Virtual
DESCRIPTION:
DTSTART:20220202T120000Z
DTEND:20220202T120000Z
SUMMARY:Santander Madrid Iberian Conference 2022
URL;VALUE=URI:https://neinorhomes.com/accionistas-e-inversores/accionistas/agenda-del-inversor
DTSTAMP:20260422T202813Z
UID:69e9133d87526
END:VEVENT
END:VCALENDAR