﻿BEGIN:VCALENDAR
VERSION:2.0
PRODID:-//hacksw/handcal//NONSGML v1.0//EN
CALSCALE:GREGORIAN
BEGIN:VEVENT
LOCATION:Virtual
DESCRIPTION:
DTSTART:20220113T120000Z
DTEND:20220113T120000Z
SUMMARY:BNP Paribas 12th Spain Investors Day
URL;VALUE=URI:https://neinorhomes.com/accionistas-e-inversores/accionistas/agenda-del-inversor
DTSTAMP:20260422T202811Z
UID:69e9133b97b7b
END:VEVENT
END:VCALENDAR