﻿BEGIN:VCALENDAR
VERSION:2.0
PRODID:-//hacksw/handcal//NONSGML v1.0//EN
CALSCALE:GREGORIAN
BEGIN:VEVENT
LOCATION:Virtual
DESCRIPTION:
DTSTART:20221109T170000Z
DTEND:20221109T170000Z
SUMMARY:Publicación de resultados 9M 2022 - Preliminar
URL;VALUE=URI:https://neinorhomes.com/accionistas-e-inversores/accionistas/agenda-del-inversor
DTSTAMP:20260422T190628Z
UID:69e900143bf31
END:VEVENT
END:VCALENDAR