﻿BEGIN:VCALENDAR
VERSION:2.0
PRODID:-//hacksw/handcal//NONSGML v1.0//EN
CALSCALE:GREGORIAN
BEGIN:VEVENT
LOCATION:Virtual
DESCRIPTION:
DTSTART:20220510T170000Z
DTEND:20220510T170000Z
SUMMARY:Publicación de resultados 1Q 2022
URL;VALUE=URI:https://neinorhomes.com/accionistas-e-inversores/accionistas/agenda-del-inversor
DTSTAMP:20260422T202644Z
UID:69e912e42049f
END:VEVENT
END:VCALENDAR