﻿BEGIN:VCALENDAR
VERSION:2.0
PRODID:-//hacksw/handcal//NONSGML v1.0//EN
CALSCALE:GREGORIAN
BEGIN:VEVENT
LOCATION:TBC
DESCRIPTION:
DTSTART:20220413T110000Z
DTEND:20220413T110000Z
SUMMARY:Junta General de Accionistas 2022 
URL;VALUE=URI:https://neinorhomes.com/accionistas-e-inversores/accionistas/agenda-del-inversor
DTSTAMP:20260422T190252Z
UID:69e8ff3c6cf4c
END:VEVENT
END:VCALENDAR