﻿BEGIN:VCALENDAR
VERSION:2.0
PRODID:-//hacksw/handcal//NONSGML v1.0//EN
CALSCALE:GREGORIAN
BEGIN:VEVENT
LOCATION:Virtual
DESCRIPTION:
DTSTART:20220223T170000Z
DTEND:20220223T170000Z
SUMMARY:Publicación de resultados anuales 2021
URL;VALUE=URI:https://neinorhomes.com/accionistas-e-inversores/accionistas/agenda-del-inversor
DTSTAMP:20260422T202939Z
UID:69e91393bcfd0
END:VEVENT
END:VCALENDAR