﻿BEGIN:VCALENDAR
VERSION:2.0
PRODID:-//hacksw/handcal//NONSGML v1.0//EN
CALSCALE:GREGORIAN
BEGIN:VEVENT
LOCATION:Virtual
DESCRIPTION:
DTSTART:20210914T103000Z
DTEND:20210914T103000Z
SUMMARY:Conferencia Goldman Sachs EMEA Credit and Leveraged Finance
URL;VALUE=URI:https://neinorhomes.com/accionistas-e-inversores/accionistas/agenda-del-inversor
DTSTAMP:20260422T190244Z
UID:69e8ff34813bc
END:VEVENT
END:VCALENDAR