﻿BEGIN:VCALENDAR
VERSION:2.0
PRODID:-//hacksw/handcal//NONSGML v1.0//EN
CALSCALE:GREGORIAN
BEGIN:VEVENT
LOCATION:Virtual
DESCRIPTION:
DTSTART:20210623T142300Z
DTEND:20210623T142300Z
SUMMARY:Conferencia Bank of America Made in Iberia
URL;VALUE=URI:https://neinorhomes.com/accionistas-e-inversores/accionistas/agenda-del-inversor
DTSTAMP:20260422T190343Z
UID:69e8ff6f13bca
END:VEVENT
END:VCALENDAR