﻿BEGIN:VCALENDAR
VERSION:2.0
PRODID:-//hacksw/handcal//NONSGML v1.0//EN
CALSCALE:GREGORIAN
BEGIN:VEVENT
LOCATION:Virtual
DESCRIPTION:
DTSTART:20210616T142100Z
DTEND:20210616T142100Z
SUMMARY:Conferencia Deutsche Bank Leveraged Finance
URL;VALUE=URI:https://neinorhomes.com/accionistas-e-inversores/accionistas/agenda-del-inversor
DTSTAMP:20260422T190552Z
UID:69e8fff0e9faa
END:VEVENT
END:VCALENDAR