﻿BEGIN:VCALENDAR
VERSION:2.0
PRODID:-//hacksw/handcal//NONSGML v1.0//EN
CALSCALE:GREGORIAN
BEGIN:VEVENT
LOCATION:Virtual
DESCRIPTION:
DTSTART:20211117T091900Z
DTEND:20211117T091900Z
SUMMARY:Presentación de resultados tercer trimestre 2021
URL;VALUE=URI:https://neinorhomes.com/accionistas-e-inversores/accionistas/agenda-del-inversor
DTSTAMP:20260422T203108Z
UID:69e913ecadc1c
END:VEVENT
END:VCALENDAR