﻿BEGIN:VCALENDAR
VERSION:2.0
PRODID:-//hacksw/handcal//NONSGML v1.0//EN
CALSCALE:GREGORIAN
BEGIN:VEVENT
LOCATION:Virtual
DESCRIPTION:
DTSTART:20210728T090800Z
DTEND:20210728T090800Z
SUMMARY:Presentación de resultados primer semestre 2021
URL;VALUE=URI:https://neinorhomes.com/accionistas-e-inversores/accionistas/agenda-del-inversor
DTSTAMP:20260422T190244Z
UID:69e8ff341a38f
END:VEVENT
END:VCALENDAR