﻿BEGIN:VCALENDAR
VERSION:2.0
PRODID:-//hacksw/handcal//NONSGML v1.0//EN
CALSCALE:GREGORIAN
BEGIN:VEVENT
LOCATION:Virtual
DESCRIPTION:
DTSTART:20210514T090600Z
DTEND:20210514T090600Z
SUMMARY:Presentación de resultados primer trimestre 2021
URL;VALUE=URI:https://neinorhomes.com/accionistas-e-inversores/accionistas/agenda-del-inversor
DTSTAMP:20260422T202812Z
UID:69e9133c8f356
END:VEVENT
END:VCALENDAR