﻿BEGIN:VCALENDAR
VERSION:2.0
PRODID:-//hacksw/handcal//NONSGML v1.0//EN
CALSCALE:GREGORIAN
BEGIN:VEVENT
LOCATION:Virtual
DESCRIPTION:
DTSTART:20211117T092500Z
DTEND:20211117T092500Z
SUMMARY:Conferencia Exane BNP MidCap CEO
URL;VALUE=URI:https://neinorhomes.com/accionistas-e-inversores/accionistas/agenda-del-inversor
DTSTAMP:20260422T203101Z
UID:69e913e557933
END:VEVENT
END:VCALENDAR