﻿BEGIN:VCALENDAR
VERSION:2.0
PRODID:-//hacksw/handcal//NONSGML v1.0//EN
CALSCALE:GREGORIAN
BEGIN:VEVENT
LOCATION:Virtual
DESCRIPTION:
DTSTART:20210224T084300Z
DTEND:20210224T084300Z
SUMMARY:Presentación de resultados anuales 2020
URL;VALUE=URI:https://neinorhomes.com/accionistas-e-inversores/accionistas/agenda-del-inversor
DTSTAMP:20260422T190328Z
UID:69e8ff607b2e7
END:VEVENT
END:VCALENDAR