﻿BEGIN:VCALENDAR
VERSION:2.0
PRODID:-//hacksw/handcal//NONSGML v1.0//EN
CALSCALE:GREGORIAN
BEGIN:VEVENT
LOCATION:Virtual
DESCRIPTION:
DTSTART:20210325T085000Z
DTEND:20210325T085000Z
SUMMARY:Conferencia Bank of America EMEA Real Estate
URL;VALUE=URI:https://neinorhomes.com/accionistas-e-inversores/accionistas/agenda-del-inversor
DTSTAMP:20260422T202756Z
UID:69e9132c1184b
END:VEVENT
END:VCALENDAR