﻿BEGIN:VCALENDAR
VERSION:2.0
PRODID:-//hacksw/handcal//NONSGML v1.0//EN
CALSCALE:GREGORIAN
BEGIN:VEVENT
LOCATION:Virtual
DESCRIPTION:
DTSTART:20210209T084900Z
DTEND:20210209T084900Z
SUMMARY:Conferencia BME Frankfurt European Midcap Event
URL;VALUE=URI:https://neinorhomes.com/accionistas-e-inversores/accionistas/agenda-del-inversor
DTSTAMP:20260422T190456Z
UID:69e8ffb84dcd5
END:VEVENT
END:VCALENDAR