﻿BEGIN:VCALENDAR
VERSION:2.0
PRODID:-//hacksw/handcal//NONSGML v1.0//EN
CALSCALE:GREGORIAN
BEGIN:VEVENT
LOCATION:Londres
DESCRIPTION:
DTSTART:20200618T121800Z
DTEND:20200618T121800Z
SUMMARY:Conferencia Morgan Stanley "Europe & EEMEA Property Conference"
URL;VALUE=URI:https://neinorhomes.com/accionistas-e-inversores/accionistas/agenda-del-inversor
DTSTAMP:20260422T190642Z
UID:69e90022b546a
END:VEVENT
END:VCALENDAR