﻿BEGIN:VCALENDAR
VERSION:2.0
PRODID:-//hacksw/handcal//NONSGML v1.0//EN
CALSCALE:GREGORIAN
BEGIN:VEVENT
LOCATION:Londres
DESCRIPTION:
DTSTART:20200318T173800Z
DTEND:20200319T173800Z
SUMMARY:Conferencia Small and Midcap CEO Conference de JP Morgan
URL;VALUE=URI:https://neinorhomes.com/accionistas-e-inversores/accionistas/agenda-del-inversor
DTSTAMP:20260422T202812Z
UID:69e9133c0bc61
END:VEVENT
END:VCALENDAR