﻿BEGIN:VCALENDAR
VERSION:2.0
PRODID:-//hacksw/handcal//NONSGML v1.0//EN
CALSCALE:GREGORIAN
BEGIN:VEVENT
LOCATION:Francia
DESCRIPTION:
DTSTART:20200311T173600Z
DTEND:20200312T173600Z
SUMMARY:Conferencia Real Estate MIPIM
URL;VALUE=URI:https://neinorhomes.com/accionistas-e-inversores/accionistas/agenda-del-inversor
DTSTAMP:20260422T190626Z
UID:69e90012b5a0f
END:VEVENT
END:VCALENDAR