﻿BEGIN:VCALENDAR
VERSION:2.0
PRODID:-//hacksw/handcal//NONSGML v1.0//EN
CALSCALE:GREGORIAN
BEGIN:VEVENT
LOCATION:Nueva York\, Boston\, Toronto
DESCRIPTION:
DTSTART:20200309T173400Z
DTEND:20200311T173400Z
SUMMARY:Roadshow en Nueva York\, Boston y Toronto
URL;VALUE=URI:https://neinorhomes.com/accionistas-e-inversores/accionistas/agenda-del-inversor
DTSTAMP:20260422T203054Z
UID:69e913de09b27
END:VEVENT
END:VCALENDAR