﻿BEGIN:VCALENDAR
VERSION:2.0
PRODID:-//hacksw/handcal//NONSGML v1.0//EN
CALSCALE:GREGORIAN
BEGIN:VEVENT
LOCATION:Madrid
DESCRIPTION:
DTSTART:20200305T173200Z
DTEND:20200305T173200Z
SUMMARY:Desayuno Con Inversores - Banco Santander
URL;VALUE=URI:https://neinorhomes.com/accionistas-e-inversores/accionistas/agenda-del-inversor
DTSTAMP:20260422T190413Z
UID:69e8ff8dc7a5f
END:VEVENT
END:VCALENDAR