﻿BEGIN:VCALENDAR
VERSION:2.0
PRODID:-//hacksw/handcal//NONSGML v1.0//EN
CALSCALE:GREGORIAN
BEGIN:VEVENT
LOCATION:Londres
DESCRIPTION:
DTSTART:20200303T172800Z
DTEND:20200304T172800Z
SUMMARY:Roadshow Post Resultados Anuales 2019
URL;VALUE=URI:https://neinorhomes.com/accionistas-e-inversores/accionistas/agenda-del-inversor
DTSTAMP:20260422T203302Z
UID:69e9145ede43a
END:VEVENT
END:VCALENDAR