﻿BEGIN:VCALENDAR
VERSION:2.0
PRODID:-//hacksw/handcal//NONSGML v1.0//EN
CALSCALE:GREGORIAN
BEGIN:VEVENT
LOCATION:Madrid
DESCRIPTION:
DTSTART:20200122T110000Z
DTEND:20200122T140000Z
SUMMARY:Desayuno con inversores locales en Mirabaud
URL;VALUE=URI:https://neinorhomes.com/accionistas-e-inversores/accionistas/agenda-del-inversor
DTSTAMP:20260422T203303Z
UID:69e9145f250d9
END:VEVENT
END:VCALENDAR