﻿BEGIN:VCALENDAR
VERSION:2.0
PRODID:-//hacksw/handcal//NONSGML v1.0//EN
CALSCALE:GREGORIAN
BEGIN:VEVENT
LOCATION:Frankfurt
DESCRIPTION:
DTSTART:20200210T100000Z
DTEND:20200210T170000Z
SUMMARY:Evento European Midcap en Frankfurt
URL;VALUE=URI:https://neinorhomes.com/accionistas-e-inversores/accionistas/agenda-del-inversor
DTSTAMP:20260422T190418Z
UID:69e8ff92981fb
END:VEVENT
END:VCALENDAR