﻿BEGIN:VCALENDAR
VERSION:2.0
PRODID:-//hacksw/handcal//NONSGML v1.0//EN
CALSCALE:GREGORIAN
BEGIN:VEVENT
LOCATION:Hotel Villa Magna - Madrid
DESCRIPTION:
DTSTART:20200206T080000Z
DTEND:20200206T170000Z
SUMMARY:XXVI Santander Iberian Conference 2020
URL;VALUE=URI:https://neinorhomes.com/accionistas-e-inversores/accionistas/agenda-del-inversor
DTSTAMP:20260422T203209Z
UID:69e9142997c22
END:VEVENT
END:VCALENDAR