﻿BEGIN:VCALENDAR
VERSION:2.0
PRODID:-//hacksw/handcal//NONSGML v1.0//EN
CALSCALE:GREGORIAN
BEGIN:VEVENT
LOCATION:Webcast
DESCRIPTION:
DTSTART:20201029T130000Z
DTEND:20201029T130000Z
SUMMARY:Presentación de resultados trimestrales (3T 2020)
URL;VALUE=URI:https://neinorhomes.com/accionistas-e-inversores/accionistas/agenda-del-inversor
DTSTAMP:20260422T202949Z
UID:69e9139dbf2f0
END:VEVENT
END:VCALENDAR