﻿BEGIN:VCALENDAR
VERSION:2.0
PRODID:-//hacksw/handcal//NONSGML v1.0//EN
CALSCALE:GREGORIAN
BEGIN:VEVENT
LOCATION:Webcast
DESCRIPTION:
DTSTART:20200730T110000Z
DTEND:20200730T120000Z
SUMMARY:Presentación de resultados trimestrales (S1 2020)
URL;VALUE=URI:https://neinorhomes.com/accionistas-e-inversores/accionistas/agenda-del-inversor
DTSTAMP:20260422T190342Z
UID:69e8ff6e1398d
END:VEVENT
END:VCALENDAR