﻿BEGIN:VCALENDAR
VERSION:2.0
PRODID:-//hacksw/handcal//NONSGML v1.0//EN
CALSCALE:GREGORIAN
BEGIN:VEVENT
LOCATION:Webcast
DESCRIPTION:
DTSTART:20200507T110000Z
DTEND:20200507T120000Z
SUMMARY:Presentación resultados Primer Trimestre (1T) 2020
URL;VALUE=URI:https://neinorhomes.com/accionistas-e-inversores/accionistas/agenda-del-inversor
DTSTAMP:20260422T203008Z
UID:69e913b04411c
END:VEVENT
END:VCALENDAR