﻿BEGIN:VCALENDAR
VERSION:2.0
PRODID:-//hacksw/handcal//NONSGML v1.0//EN
CALSCALE:GREGORIAN
BEGIN:VEVENT
LOCATION:Bilbao
DESCRIPTION:
DTSTART:20200401T100000Z
DTEND:20200401T120000Z
SUMMARY:Junta General Ordinaria de Accionistas
URL;VALUE=URI:https://neinorhomes.com/accionistas-e-inversores/accionistas/agenda-del-inversor
DTSTAMP:20260422T202836Z
UID:69e91354dc8f6
END:VEVENT
END:VCALENDAR