﻿BEGIN:VCALENDAR
VERSION:2.0
PRODID:-//hacksw/handcal//NONSGML v1.0//EN
CALSCALE:GREGORIAN
BEGIN:VEVENT
LOCATION:Webcast
DESCRIPTION:<p><a title="Haga click aqu&iacute\; para registrarse" href="https://edge.media-server.com/mmc/p/qrvqy65z">Haga click&nbsp\;aqu&iacute\;&nbsp\;para registrarse.</a></p>
DTSTART:20200227T120000Z
DTEND:20200227T130000Z
SUMMARY:Presentación Resultados Anuales 2019
URL;VALUE=URI:https://neinorhomes.com/accionistas-e-inversores/accionistas/agenda-del-inversor
DTSTAMP:20260422T190420Z
UID:69e8ff949867d
END:VEVENT
END:VCALENDAR