﻿BEGIN:VCALENDAR
VERSION:2.0
PRODID:-//hacksw/handcal//NONSGML v1.0//EN
CALSCALE:GREGORIAN
BEGIN:VEVENT
LOCATION:Paris
DESCRIPTION:<p>Paris\, France</p>
DTSTART:20191126T090000Z
DTEND:20191126T170000Z
SUMMARY:Exane BNP 2nd MidCap CEO Conference
URL;VALUE=URI:https://neinorhomes.com/accionistas-e-inversores/accionistas/agenda-del-inversor
DTSTAMP:20260422T202755Z
UID:69e9132b8a94c
END:VEVENT
END:VCALENDAR