﻿BEGIN:VCALENDAR
VERSION:2.0
PRODID:-//hacksw/handcal//NONSGML v1.0//EN
CALSCALE:GREGORIAN
BEGIN:VEVENT
LOCATION:Madrid
DESCRIPTION:<p>Madrid</p>
DTSTART:20191127T090000Z
DTEND:20191127T170000Z
SUMMARY:Spain All-Caps Conference - BBVA and BME
URL;VALUE=URI:https://neinorhomes.com/accionistas-e-inversores/accionistas/agenda-del-inversor
DTSTAMP:20260422T190454Z
UID:69e8ffb64c432
END:VEVENT
END:VCALENDAR