﻿BEGIN:VCALENDAR
VERSION:2.0
PRODID:-//hacksw/handcal//NONSGML v1.0//EN
CALSCALE:GREGORIAN
BEGIN:VEVENT
LOCATION:London
DESCRIPTION:<p>London\, United Kingdom</p>
DTSTART:20191001T150000Z
DTEND:20191002T170000Z
SUMMARY:Exane BNP Disrupt IR Forum + Investor Meeting
URL;VALUE=URI:https://neinorhomes.com/accionistas-e-inversores/accionistas/agenda-del-inversor
DTSTAMP:20260422T190627Z
UID:69e900133b5ee
END:VEVENT
END:VCALENDAR