﻿BEGIN:VCALENDAR
VERSION:2.0
PRODID:-//hacksw/handcal//NONSGML v1.0//EN
CALSCALE:GREGORIAN
BEGIN:VEVENT
LOCATION:Bilbao
DESCRIPTION:<p>Bilbao</p>
DTSTART:20191003T090000Z
DTEND:20191003T170000Z
SUMMARY:ACF Foro Bilbao
URL;VALUE=URI:https://neinorhomes.com/accionistas-e-inversores/accionistas/agenda-del-inversor
DTSTAMP:20260422T202940Z
UID:69e913942da9f
END:VEVENT
END:VCALENDAR