﻿BEGIN:VCALENDAR
VERSION:2.0
PRODID:-//hacksw/handcal//NONSGML v1.0//EN
CALSCALE:GREGORIAN
BEGIN:VEVENT
LOCATION:London
DESCRIPTION:<p>London\, United Kingdom</p>
DTSTART:20190912T080000Z
DTEND:20190912T170000Z
SUMMARY:JP Morgan Pan-European Small-MidCap CEO Conference
URL;VALUE=URI:https://neinorhomes.com/accionistas-e-inversores/accionistas/agenda-del-inversor
DTSTAMP:20260422T190341Z
UID:69e8ff6dc3d14
END:VEVENT
END:VCALENDAR