﻿BEGIN:VCALENDAR
VERSION:2.0
PRODID:-//hacksw/handcal//NONSGML v1.0//EN
CALSCALE:GREGORIAN
BEGIN:VEVENT
LOCATION:Porto-Portugal
DESCRIPTION:<p>Porto\, Portugal</p>
DTSTART:20190904T080000Z
DTEND:20190904T170000Z
SUMMARY:Caixabank-BPI XVI Iberian Conference
URL;VALUE=URI:https://neinorhomes.com/accionistas-e-inversores/accionistas/agenda-del-inversor
DTSTAMP:20260422T190251Z
UID:69e8ff3be1ce0
END:VEVENT
END:VCALENDAR