﻿BEGIN:VCALENDAR
VERSION:2.0
PRODID:-//hacksw/handcal//NONSGML v1.0//EN
CALSCALE:GREGORIAN
BEGIN:VEVENT
LOCATION:London
DESCRIPTION:<p>London\, United Kingdom</p>
DTSTART:20190919T080000Z
DTEND:20190920T170000Z
SUMMARY:London Non-Deal Roadshow
URL;VALUE=URI:https://neinorhomes.com/accionistas-e-inversores/accionistas/agenda-del-inversor
DTSTAMP:20260422T190418Z
UID:69e8ff921eedd
END:VEVENT
END:VCALENDAR