﻿BEGIN:VCALENDAR
VERSION:2.0
PRODID:-//hacksw/handcal//NONSGML v1.0//EN
CALSCALE:GREGORIAN
BEGIN:VEVENT
LOCATION:The Clubhouse St James' - London
DESCRIPTION:<p>London\, United Kingdom</p>
DTSTART:20191107T080000Z
DTEND:20191107T170000Z
SUMMARY:Santander Real Estate Conference
URL;VALUE=URI:https://neinorhomes.com/accionistas-e-inversores/accionistas/agenda-del-inversor
DTSTAMP:20260422T190420Z
UID:69e8ff941eb3a
END:VEVENT
END:VCALENDAR